BEGIN:VCALENDAR
PRODID:-//AT Content Types//AT Event//EN
VERSION:2.0
METHOD:PUBLISH
BEGIN:VEVENT
DTSTAMP:20260423T140716Z
CREATED:20120417T143708Z
UID:ATEvent-cc28ce9c-d8fc-4dc4-be96-de7d310a41d7
LAST-MODIFIED:20120417T143708Z
SUMMARY:FENCE Center CLOSED
DTSTART:20121219T050000Z
DTEND:20130102T045500Z
DESCRIPTION:Fence Center will be closed for winter break.  In you need
  to reach a staff member\, please email us at info@fence.org\n\nHave a
  happy and safe holiday!!
CATEGORIES:Family
CONTACT:Tracie Hanson\, 828-859-9021\, natureeducation@fence.org
CLASS:PUBLIC
END:VEVENT
END:VCALENDAR
