BEGIN:VCALENDAR
PRODID:-//AT Content Types//AT Event//EN
VERSION:1.0
BEGIN:VEVENT
DTSTART:20240621T123000Z
DTEND:20240621T163000Z
DCREATED:20230928T185104Z
UID:ATEvent-efd78ecd03444c8a9cd5d98c962d0660
SEQUENCE:0
LAST-MODIFIED:20230928T185104Z
SUMMARY:FENCE Camp
DESCRIPTION:Half Day $150
LOCATION:FENCE Center
PRIORITY:3
TRANSP:0
END:VEVENT
END:VCALENDAR
