BEGIN:VCALENDAR
PRODID:-//AT Content Types//AT Event//EN
VERSION:2.0
METHOD:PUBLISH
BEGIN:VEVENT
DTSTAMP:20260421T040104Z
CREATED:20230928T184940Z
UID:ATEvent-f8c1cc5ad8484902a5e4baccc588669d
LAST-MODIFIED:20230928T184940Z
SUMMARY:FENCE Camp
DTSTART:20240620T123000Z
DTEND:20240620T163000Z
DESCRIPTION:Half Day $150
LOCATION:FENCE Center
CATEGORIES:Childrens Day Camp
CONTACT:8288599021\, info@fence.org
CLASS:PUBLIC
END:VEVENT
END:VCALENDAR
