BEGIN:VCALENDAR
PRODID:-//AT Content Types//AT Event//EN
VERSION:1.0
BEGIN:VEVENT
DTSTART:20240619T123000Z
DTEND:20240619T163000Z
DCREATED:20230928T184847Z
UID:ATEvent-420b9db2df4d4eb7951e7575c8d005e7
SEQUENCE:0
LAST-MODIFIED:20230928T184847Z
SUMMARY:FENCE Camp
DESCRIPTION:Half Day $150
LOCATION:FENCE Center
PRIORITY:3
TRANSP:0
END:VEVENT
END:VCALENDAR
