BEGIN:VCALENDAR
PRODID:-//AT Content Types//AT Event//EN
VERSION:1.0
BEGIN:VEVENT
DTSTART:20240618T123000Z
DTEND:20240618T163000Z
DCREATED:20230928T184708Z
UID:ATEvent-336fdb3cb59c49ddab7ea7649aad386e
SEQUENCE:0
LAST-MODIFIED:20230928T184708Z
SUMMARY:FENCE Camp
DESCRIPTION:Half Day $150
LOCATION:FENCE Center
PRIORITY:3
TRANSP:0
END:VEVENT
END:VCALENDAR
