BEGIN:VCALENDAR
PRODID:-//AT Content Types//AT Event//EN
VERSION:1.0
BEGIN:VEVENT
DTSTART:20170717T123000Z
DTEND:20170721T163000Z
DCREATED:20170105T175109Z
UID:ATEvent-4872dd59c64e418fa1789ad7401b816a
SEQUENCE:0
LAST-MODIFIED:20170105T175109Z
SUMMARY:FENCE Art Camp
LOCATION:FENCE Center
PRIORITY:3
TRANSP:0
END:VEVENT
END:VCALENDAR
