BEGIN:VCALENDAR
PRODID:-//AT Content Types//AT Event//EN
VERSION:1.0
BEGIN:VEVENT
DTSTART:20200713T123000Z
DTEND:20200717T163000Z
DCREATED:20200109T220936Z
UID:ATEvent-3052e5c1b9dc4fb881c7e36916e42c2e
SEQUENCE:0
LAST-MODIFIED:20200208T015354Z
SUMMARY:FENCE Art Camp
DESCRIPTION:Art Camp runs from 8:30am-12:30pm daily. This half day cam
 p focuses on different art projects throughout the week. Create and us
 e your imagination with lots of art projects to keep your camper busy.
  Campers will learn many different art mediums as well as the use of i
 nspiration from their surroundings and natural materials. Guest artist
  join us throughout the week to lead our campers through many differen
 t art activities.
LOCATION:FENCE Center
PRIORITY:3
TRANSP:0
END:VEVENT
END:VCALENDAR
