BEGIN:VCALENDAR
PRODID:-//AT Content Types//AT Event//EN
VERSION:2.0
METHOD:PUBLISH
BEGIN:VEVENT
DTSTAMP:20260422T130728Z
CREATED:20171114T180739Z
UID:ATEvent-d76e1e33400b4bf49412fbe1b480c5f9
LAST-MODIFIED:20180116T152724Z
SUMMARY:FENCE Art Camp
DTSTART:20180716T123000Z
DTEND:20180720T163000Z
CATEGORIES:Childrens Day Camp
CONTACT:Tracie Hanson\, 8288599021\, info@fence.org
CLASS:PUBLIC
END:VEVENT
END:VCALENDAR
