BEGIN:VCALENDAR
PRODID:-//AT Content Types//AT Event//EN
VERSION:1.0
BEGIN:VEVENT
DTSTART:20200706T120000Z
DTEND:20200710T210000Z
DCREATED:20200109T220839Z
UID:ATEvent-c8c9131ff53848faabdfba2096d55fd4
SEQUENCE:0
LAST-MODIFIED:20200208T015318Z
SUMMARY:FENCE All Day Camp
DESCRIPTION:All day camp runs from 8am-5pm daily. This camp  includes 
 a wide variety of activities including hiking\, exploring nature\, art
 s and crafts\, team building activities\, groups games\, special guest
  presenters\, and much more! Camp includes a morning and afternoon sna
 ck.
LOCATION:FENCE Center
PRIORITY:3
TRANSP:0
END:VEVENT
END:VCALENDAR
