BEGIN:VCALENDAR
PRODID:-//AT Content Types//AT Event//EN
VERSION:2.0
METHOD:PUBLISH
BEGIN:VEVENT
DTSTAMP:20260420T192628Z
CREATED:20171114T180420Z
UID:ATEvent-1c49fff60c094ca6a5621330e5d646a8
LAST-MODIFIED:20171114T180421Z
SUMMARY:FENCE All Day Camp
DTSTART:20180625T120000Z
DTEND:20180629T210000Z
LOCATION:FENCE Center
CATEGORIES:Childrens Day Camp
CONTACT:Tracie Hanson\, 8288599021\, info@fence.org
CLASS:PUBLIC
END:VEVENT
END:VCALENDAR
