BEGIN:VCALENDAR
PRODID:-//AT Content Types//AT Event//EN
VERSION:2.0
METHOD:PUBLISH
BEGIN:VEVENT
DTSTAMP:20260423T191509Z
CREATED:20141027T151735Z
UID:ATEvent-dca69d1b-0a42-457f-91d3-d60f1b05e0c4
LAST-MODIFIED:20141027T151735Z
SUMMARY:FENCE 30th Anniversary  Family Event
DTSTART:20141116T170000Z
DTEND:20141116T210000Z
DESCRIPTION:Fence is celebrating its 30th year. Please come out and jo
 in us for this free family event.
LOCATION:Fence Center
CATEGORIES:Family
CONTACT:Tracie Hanson\, 8288599021\, info@fence.org
CLASS:PUBLIC
END:VEVENT
END:VCALENDAR
