BEGIN:VCALENDAR
PRODID:-//AT Content Types//AT Event//EN
VERSION:2.0
METHOD:PUBLISH
BEGIN:VEVENT
DTSTAMP:20260423T105354Z
CREATED:20091117T174809Z
UID:ATEvent-0b75eadd-026e-44df-80ea-d5b9dfccceb5
LAST-MODIFIED:20091219T003756Z
SUMMARY:Feb. 7 - FENCE Hunter Pace
DTSTART:20100207T140000Z
DTEND:20100207T190000Z
DESCRIPTION:Raindate\, Feb. 14
LOCATION:Equestrian Center & FETA Trails
CATEGORIES:Horse Show
CONTACT:828-859-9021\, horseshow@fence.org
CLASS:PUBLIC
END:VEVENT
END:VCALENDAR
