BEGIN:VCALENDAR
PRODID:-//AT Content Types//AT Event//EN
VERSION:2.0
METHOD:PUBLISH
BEGIN:VEVENT
DTSTAMP:20260423T131048Z
CREATED:20101116T154512Z
UID:ATEvent-1eef92f0-bb37-449f-b8fd-290a11519f1a
LAST-MODIFIED:20110117T154706Z
SUMMARY:Feb. 6: FENCE Hunter Pace
DTSTART:20110206T140000Z
DTEND:20110206T200000Z
DESCRIPTION:(Rain Date - Feb. 13)
LOCATION:Various
CATEGORIES:Horse Show
CONTACT:828-859-9021\, horseshow@fence.org
CLASS:PUBLIC
END:VEVENT
END:VCALENDAR
