BEGIN:VCALENDAR
PRODID:-//AT Content Types//AT Event//EN
VERSION:2.0
METHOD:PUBLISH
BEGIN:VEVENT
DTSTAMP:20260420T105014Z
CREATED:20101116T154207Z
UID:ATEvent-52a59b0c-24b4-4f12-bd23-aed1100a45e3
LAST-MODIFIED:20101116T154207Z
SUMMARY:Feb. 5: FRC Cross-Country Schooling
DTSTART:20110205T140000Z
DTEND:20110205T204000Z
LOCATION:Cross-Country Course
CATEGORIES:Schooling
CONTACT:Margo Savage\, 828-863-4924
URL:http://www.foothillsridingclub.org
CLASS:PUBLIC
END:VEVENT
END:VCALENDAR
