BEGIN:VCALENDAR
PRODID:-//AT Content Types//AT Event//EN
VERSION:1.0
BEGIN:VEVENT
DTSTART:20110205T223000Z
DTEND:20110206T020000Z
DCREATED:20101206T165651Z
UID:ATEvent-0400fc9c-2f0a-4ec5-8aee-bcc732494be3
SEQUENCE:0
LAST-MODIFIED:20101206T165651Z
SUMMARY:Feb. 5: Astronomy Program at sunset
DESCRIPTION:"Jupiter Departs\, Saturn Returns". Meet at the top of Haw
 k Ridge\, behind the FENCE Center. Telescopes provided. Free program p
 resented by the Foothills Astronomical Society.
LOCATION:Hawk Ridge
PRIORITY:3
TRANSP:0
END:VEVENT
END:VCALENDAR
