BEGIN:VCALENDAR
PRODID:-//AT Content Types//AT Event//EN
VERSION:1.0
BEGIN:VEVENT
DTSTART:20110227T210000Z
DTEND:20110227T223000Z
DCREATED:20110117T155409Z
UID:ATEvent-1c67f109-2ae7-47a4-92a1-87a303d274ad
SEQUENCE:0
LAST-MODIFIED:20110117T155409Z
SUMMARY:Feb. 27 - The Armchair Traveler
DESCRIPTION:Tina Gragg visits Kenya. Free program.
LOCATION:Great Room
PRIORITY:3
TRANSP:0
END:VEVENT
END:VCALENDAR
