BEGIN:VCALENDAR
PRODID:-//AT Content Types//AT Event//EN
VERSION:1.0
BEGIN:VEVENT
DTSTART:20100221T233000Z
DTEND:20100222T040000Z
DCREATED:20091117T175141Z
UID:ATEvent-59953ee4-b924-4330-bfcf-c7a58887077d
SEQUENCE:0
LAST-MODIFIED:20091117T175141Z
SUMMARY:Feb. 21 - Astronomy Program at sunset
DESCRIPTION:Program to be announced.
LOCATION:Hawk Ridge\, FENCE Center
PRIORITY:3
TRANSP:0
END:VEVENT
END:VCALENDAR
