BEGIN:VCALENDAR
PRODID:-//AT Content Types//AT Event//EN
VERSION:2.0
METHOD:PUBLISH
BEGIN:VEVENT
DTSTAMP:20260423T120200Z
CREATED:20101206T170641Z
UID:ATEvent-7e33e208-e987-4e09-be25-e46ca76eebef
LAST-MODIFIED:20101206T170641Z
SUMMARY:Feb. 18: Foothills Astronomical Society meeting
DTSTART:20110219T003000Z
DTEND:20110219T023000Z
DESCRIPTION:Regular monthly club meeting. All invited. Enter through r
 ear of FENCE Center.
LOCATION:FENCE Center
CATEGORIES:Nature/Astronomy
CONTACT:Jim Cooper\, 828-859-8342
CLASS:PUBLIC
END:VEVENT
END:VCALENDAR
