BEGIN:VCALENDAR
PRODID:-//AT Content Types//AT Event//EN
VERSION:2.0
METHOD:PUBLISH
BEGIN:VEVENT
DTSTAMP:20260423T223515Z
CREATED:20091124T172227Z
UID:ATEvent-94e0bf94-29df-40ef-9a8f-2fc7f95a2e68
LAST-MODIFIED:20091219T180138Z
SUMMARY:Feb. 13: Astronomy Program at sunset
DTSTART:20100213T233000Z
DTEND:20100214T040000Z
DESCRIPTION:Orion and the Pleiades Star Cluster. Program takes place o
 n the hill behind our main building. Telescopes provided. No program i
 n case of rain or heavy cloud cover. Offered by the Foothills Astronom
 ical Society.
LOCATION:Hawk Ridge\, FENCE Center
CATEGORIES:Nature/Astronomy
CONTACT:828-859-8342
CLASS:PUBLIC
END:VEVENT
END:VCALENDAR
