BEGIN:VCALENDAR
PRODID:-//AT Content Types//AT Event//EN
VERSION:2.0
METHOD:PUBLISH
BEGIN:VEVENT
DTSTAMP:20260423T142549Z
CREATED:20171002T162224Z
UID:ATEvent-f488368819dd4228990c0c90cc214623
LAST-MODIFIED:20171002T162225Z
SUMMARY:Family Concert with Simple Folk
DTSTART:20171119T210000Z
DTEND:20171119T220000Z
DESCRIPTION:The 4-piece band\, Simple Folk\, will perform at FENCE in 
 the great room. In addition to the classic-to-contemporary folk styles
  played as the band name implies\, the guys also play roots rock'n'rol
 l\, rockabilly\, Americana and classic country tunes. Join Simple Folk
  for a Nostalgic trip down the retro music lane of the 1940's to the 1
 980's. This event is made possible by the Kirby Endowment at the Polk 
 County Community Foundation.
LOCATION:FENCE Center
CATEGORIES:Family
CONTACT:Tracie Hanson\, 8288599021\, info@fence.org
CLASS:PUBLIC
END:VEVENT
END:VCALENDAR
