BEGIN:VCALENDAR
PRODID:-//AT Content Types//AT Event//EN
VERSION:1.0
BEGIN:VEVENT
DTSTART:20170716T200000Z
DTEND:20170716T210000Z
DCREATED:20170524T130623Z
UID:ATEvent-759a421743454f5786153a7e09936dcc
SEQUENCE:0
LAST-MODIFIED:20170524T130623Z
SUMMARY:Family Concert with One Road Over
LOCATION:FENCE Center
PRIORITY:3
TRANSP:0
END:VEVENT
END:VCALENDAR
