BEGIN:VCALENDAR
PRODID:-//AT Content Types//AT Event//EN
VERSION:2.0
METHOD:PUBLISH
BEGIN:VEVENT
DTSTAMP:20260423T120555Z
CREATED:20180209T220619Z
UID:ATEvent-141d9a7d88734cbe9712465589c5d359
LAST-MODIFIED:20181112T192636Z
SUMMARY:Holiday Family Concert with Blissing Trio
DTSTART:20181209T210000Z
DTEND:20181209T220000Z
DESCRIPTION:Join us at FENCE in the great room for a wonderful musical
  performance by Blissing Trio. Join us in celebrating the holiday seas
 on as the Trio performs Christmas music both sacred and secular. This 
 concert is free and open to all ages. Following the performance refres
 hments will be served.\n\nThanks to the Kirby Endowment at the Polk Co
 unty Community Foundation for making this event possible!
LOCATION:FENCE Center
CATEGORIES:Family
CONTACT:info@fence.org
CLASS:PUBLIC
END:VEVENT
END:VCALENDAR
