BEGIN:VCALENDAR
PRODID:-//AT Content Types//AT Event//EN
VERSION:2.0
METHOD:PUBLISH
BEGIN:VEVENT
DTSTAMP:20260423T191636Z
CREATED:20190122T212641Z
UID:ATEvent-ead2060017c4435b8b485399d5953f65
LAST-MODIFIED:20190831T025700Z
SUMMARY:Family Concert with Blissing Trio
DTSTART:20190908T200000Z
DTEND:20190908T210000Z
DESCRIPTION:“Blissing”\, a women’s acapella trio\, Experienced s
 ingers who have an ear for good vocal production and blend\, the women
  of Blissing cover a range of genres\, impressing their audiences with
  the harmonies of well- known standards and their own original arrange
 ments.
LOCATION:FENCE Center
CATEGORIES:Family
CONTACT:828-859-9021\, info@fence.org
CLASS:PUBLIC
END:VEVENT
END:VCALENDAR
