BEGIN:VCALENDAR
PRODID:-//AT Content Types//AT Event//EN
VERSION:2.0
METHOD:PUBLISH
BEGIN:VEVENT
DTSTAMP:20260423T105728Z
CREATED:20180209T220918Z
UID:ATEvent-588e05f6fc684e83899bdefdfc1ca5f2
LAST-MODIFIED:20180821T144230Z
SUMMARY:Family Concert with Basement Bunch
DTSTART:20180422T200000Z
DTEND:20180422T210000Z
DESCRIPTION:Join us at FENCE for an afternoon with the local band Base
 ment Bunch! Thank you to the Kirby Endowment at the Polk County Commun
 ity Foundation for making this free concert possible.
LOCATION:FENCE Center
CATEGORIES:Family
CONTACT:info@fence.org
CLASS:PUBLIC
END:VEVENT
END:VCALENDAR
