BEGIN:VCALENDAR
PRODID:-//AT Content Types//AT Event//EN
VERSION:2.0
METHOD:PUBLISH
BEGIN:VEVENT
DTSTAMP:20260423T120058Z
CREATED:20220128T184916Z
UID:ATEvent-52b14bb8c31c441a8271b86b49fa5be8
LAST-MODIFIED:20221001T001811Z
SUMMARY:Family Concert - The Scatterlings
DTSTART:20221016T200000Z
DTEND:20221016T210000Z
DESCRIPTION:This event is free and open to the public. Thanks to the K
 irby Endowment at the Polk County Community Foundation for making this
  event possible.
LOCATION:FENCE Center
CATEGORIES:Family
CONTACT:Tracie Hanson\, 828-859-9021\, info@fence.org
CLASS:PUBLIC
END:VEVENT
END:VCALENDAR
