BEGIN:VCALENDAR
PRODID:-//AT Content Types//AT Event//EN
VERSION:2.0
METHOD:PUBLISH
BEGIN:VEVENT
DTSTAMP:20260425T205622Z
CREATED:20240124T001654Z
UID:ATEvent-72c4b3656a454d589939ede232b1dcf7
LAST-MODIFIED:20240202T012422Z
SUMMARY:Family Concert-The Moon and You
DTSTART:20240218T210000Z
DTEND:20240218T220000Z
DESCRIPTION:Join FENCE for their first concert of 2024 featuring The M
 oon and You. This event is free and  open to the public. At its core\,
  The Moon and You is a charismatic husband-and-wife team. Melissa Hyma
 n plays cello\, Ryan Furstenberg plays guitar and banjo\, and both sin
 g in “voices that sound like they were made for one another” (Bill
  DeYoung\, Connect Savannah). But whatever you might assume based on t
 heir gorgeous vocal blend and heartfelt lyrics\, this ain’t your bas
 ic folk duo. With a rotating cast of talented friends to add unexpecte
 d instrumentation to their lineup\, The Moon and You never plays the s
 ame show twice. This ever-evolving\, expandable and collapsible model 
 leaves the band constantly reinventing itself in ways both surprising 
 and satisfying.
LOCATION:FENCE Center
CATEGORIES:Family
CONTACT:828-859-9021\, info@fence.org
CLASS:PUBLIC
END:VEVENT
END:VCALENDAR
