BEGIN:VCALENDAR
PRODID:-//AT Content Types//AT Event//EN
VERSION:2.0
METHOD:PUBLISH
BEGIN:VEVENT
DTSTAMP:20260423T105902Z
CREATED:20220128T183907Z
UID:ATEvent-a1ed6ff667e64bd685235f39225d4113
LAST-MODIFIED:20220319T192016Z
SUMMARY:Family Concert - Sparkle City Brass
DTSTART:20220320T200000Z
DTEND:20220320T210000Z
DESCRIPTION:Join us in the Great Room at FENCE on Sunday\, March 20th 
 at 4pm for a concert with Sparkle City Brass. This event is free and o
 pen to the public. Thank you to the Kirby Endowment at the Polk County
  Community Foundation for making this event possible. Call 828-859-902
 1 or email info@fence.org to register.
LOCATION:FENCE Center
CATEGORIES:Family
CONTACT:Tracie Hanson\, 828-859-9021\, info@fence.org
CLASS:PUBLIC
END:VEVENT
END:VCALENDAR
