BEGIN:VCALENDAR
PRODID:-//AT Content Types//AT Event//EN
VERSION:1.0
BEGIN:VEVENT
DTSTART:20221120T210000Z
DTEND:20221120T220000Z
DCREATED:20220128T185025Z
UID:ATEvent-3b1ad3698fa849ffae141594878b7c61
SEQUENCE:0
LAST-MODIFIED:20221110T021647Z
SUMMARY:Family Concert - Quatrophonics Saxophone Quartet
DESCRIPTION:Join us in the Great Room at FENCE for a performance with 
 The Quatrophonics. This event is free and open to the public.
LOCATION:FENCE Center
PRIORITY:3
TRANSP:0
END:VEVENT
END:VCALENDAR
