BEGIN:VCALENDAR
PRODID:-//AT Content Types//AT Event//EN
VERSION:2.0
METHOD:PUBLISH
BEGIN:VEVENT
DTSTAMP:20260426T012541Z
CREATED:20240124T201435Z
UID:ATEvent-2269484549994c5c8f097aa007fb30da
LAST-MODIFIED:20240211T163031Z
SUMMARY:Family concert-Posey Royale
DTSTART:20240317T200000Z
DTEND:20240317T210000Z
DESCRIPTION:Posey Royale will perform at FENCE on Sunday\, March 17th 
 at 4pm. This event is free and open to the public. Join us for an afte
 rnoon of great live music!
LOCATION:FENCE Center
CATEGORIES:Family
CONTACT:828-859-9021\, info@fence.org
CLASS:PUBLIC
END:VEVENT
END:VCALENDAR
