BEGIN:VCALENDAR
PRODID:-//AT Content Types//AT Event//EN
VERSION:1.0
BEGIN:VEVENT
DTSTART:20220522T200000Z
DTEND:20220522T210000Z
DCREATED:20220128T184554Z
UID:ATEvent-5c7081743e854518a003ad797f71f271
SEQUENCE:0
LAST-MODIFIED:20220411T145031Z
SUMMARY:Family  Concert - Deep Dish Dixieland
DESCRIPTION:Join us for a free concert with Deep Dish Dixieland.
LOCATION:FENCE Center
PRIORITY:3
TRANSP:0
END:VEVENT
END:VCALENDAR
