BEGIN:VCALENDAR
PRODID:-//AT Content Types//AT Event//EN
VERSION:1.0
BEGIN:VEVENT
DTSTART:20210425T200000Z
DTEND:20210425T210000Z
DCREATED:20210405T224549Z
UID:ATEvent-99feced8a7de4bc8ad4685dad2723730
SEQUENCE:0
LAST-MODIFIED:20210405T225316Z
SUMMARY:Family concert
DESCRIPTION:Join us for a concert with the Basement Bunch! This event 
 will take place outdoors under the pavilion adjacent to the FENCE cent
 er. Registration is required.
LOCATION:FENCE center
PRIORITY:3
TRANSP:0
END:VEVENT
END:VCALENDAR
