BEGIN:VCALENDAR
PRODID:-//AT Content Types//AT Event//EN
VERSION:1.0
BEGIN:VEVENT
DTSTART:20090517T200000Z
DTEND:20090517T213000Z
DCREATED:20090506T175048Z
UID:ATEvent-283f6d86-2590-4c87-98cf-14c8bc0de9a8
SEQUENCE:0
LAST-MODIFIED:20090506T175121Z
SUMMARY:May 17 - Family Concert
DESCRIPTION:An eclectic program of classical and Broadway music\, with
  violinists Sara Izquierdo\, pianists Julia Izquierdo and Susan Crotts
 \, and vocalist Nicole Bradley. Free program.
LOCATION:Great Room
PRIORITY:3
TRANSP:0
END:VEVENT
END:VCALENDAR
