BEGIN:VCALENDAR
PRODID:-//AT Content Types//AT Event//EN
VERSION:1.0
BEGIN:VEVENT
DTSTART:20200919T120000Z
DTEND:20200919T160000Z
DCREATED:20200606T185143Z
UID:ATEvent-916ad61aa9ac4e3aa0d7b8c79429e325
SEQUENCE:0
LAST-MODIFIED:20200814T195753Z
SUMMARY:Canceled - Fall Community yard sale
DESCRIPTION:It's back for the fall! The annual community sale will be 
 held at FENCE from 8am-12pm on the Equestrian side.
LOCATION:Equestrian side
PRIORITY:3
TRANSP:0
END:VEVENT
END:VCALENDAR
