BEGIN:VCALENDAR
PRODID:-//AT Content Types//AT Event//EN
VERSION:2.0
METHOD:PUBLISH
BEGIN:VEVENT
DTSTAMP:20260423T141909Z
CREATED:20190122T212750Z
UID:ATEvent-ef683a1e67c548fda63f36917751dc3f
LAST-MODIFIED:20190122T212750Z
SUMMARY:Fall bird walk
DTSTART:20191003T120000Z
DTEND:20191003T140000Z
LOCATION:FENCE Center
CATEGORIES:Nature Program
CONTACT:828-859-9021\, info@fence.org
CLASS:PUBLIC
END:VEVENT
END:VCALENDAR
