BEGIN:VCALENDAR
PRODID:-//AT Content Types//AT Event//EN
VERSION:2.0
METHOD:PUBLISH
BEGIN:VEVENT
DTSTAMP:20260423T170705Z
CREATED:20240105T141912Z
UID:ATEvent-65650a05f1144ea3a5f897b9c244ba29
LAST-MODIFIED:20241106T012740Z
SUMMARY:Fall Bird Walk
DTSTART:20241113T140000Z
DTEND:20241113T160000Z
DESCRIPTION:This event is free and open to the public. Birders of all 
 levels are welcome. Please remember to dress appropriately for the wea
 ther\, wear comfortable shoes\, and bring along binoculars if you have
  them. This event is made possible by the Kirby Endowment at the Polk 
 County Community Foundation.
LOCATION:FENCE Center
CATEGORIES:Nature Program
CONTACT:828-859-9021\, info@fence.org
CLASS:PUBLIC
END:VEVENT
END:VCALENDAR
