BEGIN:VCALENDAR
PRODID:-//AT Content Types//AT Event//EN
VERSION:1.0
BEGIN:VEVENT
DTSTART:20221006T120000Z
DTEND:20221006T140000Z
DCREATED:20220928T105407Z
UID:ATEvent-cf5b2a8d00d8465a9914112ba14cc447
SEQUENCE:0
LAST-MODIFIED:20220928T105407Z
SUMMARY:Fall bird walk
DESCRIPTION:Join for an easy and enjoyable morning exploring the field
 s and trails at FENCE in search of resident birds as well as fall migr
 ants. This walk will be led by a Ventures birding guide.
LOCATION:FENCE Center
PRIORITY:3
TRANSP:0
END:VEVENT
END:VCALENDAR
