BEGIN:VCALENDAR
PRODID:-//AT Content Types//AT Event//EN
VERSION:1.0
BEGIN:VEVENT
DTSTART:20211118T140000Z
DTEND:20211118T160000Z
DCREATED:20210607T200450Z
UID:ATEvent-683a648a1d234580b8361f2addeec16c
SEQUENCE:0
LAST-MODIFIED:20211115T164658Z
SUMMARY:FULL- Fall bird walk
DESCRIPTION:Join us for a leisurely guided bird walk around the FENCE 
 property. This event is free and open to the public.
LOCATION:FENCE center
PRIORITY:3
TRANSP:0
END:VEVENT
END:VCALENDAR
