BEGIN:VCALENDAR
PRODID:-//AT Content Types//AT Event//EN
VERSION:2.0
METHOD:PUBLISH
BEGIN:VEVENT
DTSTAMP:20260423T130927Z
CREATED:20200904T184643Z
UID:ATEvent-37804427f79242419448a7efb8843a0b
LAST-MODIFIED:20200929T144050Z
SUMMARY:Fall bird walk
DTSTART:20201008T120000Z
DTEND:20201008T140000Z
DESCRIPTION:Please register for this program in advance. To register f
 or this program call FENCE at 828-859-9021 or email info@fence.org. Me
 et at the FENCE center on Thursday\, October 8th at 8am for a fall bir
 d walk led by a Ventures birding guide. Physical distancing will be ob
 served and group size will be limited. Please bring a face covering fo
 r the walk.
LOCATION:FENCE center
CATEGORIES:Nature Program
CONTACT:828-859-9021\, info@fence.org
CLASS:PUBLIC
END:VEVENT
END:VCALENDAR
