BEGIN:VCALENDAR
PRODID:-//AT Content Types//AT Event//EN
VERSION:1.0
BEGIN:VEVENT
DTSTART:20121104T130000Z
DTEND:20121104T150000Z
DCREATED:20120417T155649Z
UID:ATEvent-4c3e3666-fb95-4a4b-8962-6c6b1a75607e
SEQUENCE:0
LAST-MODIFIED:20121019T144736Z
SUMMARY:Fall Bird Hike with Simon Thompson
DESCRIPTION:Well-known ornithologist and birding expert\, Simon Thomps
 on\, will conduct a Fall birding hike at FENCE on November 4\, 2012 at
  8AM.  This will be the forth in the series
LOCATION:FENCE Center
PRIORITY:3
TRANSP:0
END:VEVENT
END:VCALENDAR
