BEGIN:VCALENDAR
PRODID:-//AT Content Types//AT Event//EN
VERSION:2.0
METHOD:PUBLISH
BEGIN:VEVENT
DTSTAMP:20260423T131145Z
CREATED:20170105T193459Z
UID:ATEvent-18ee287e61224db1af7b4d6965995232
LAST-MODIFIED:20170918T152953Z
SUMMARY:Fall Bird Hike with Aaron Steed
DTSTART:20171012T130000Z
DTEND:20171012T150000Z
DESCRIPTION:Join international bird guide Aaron Steed for a walk in th
 e woodlands and fields of FENCE and look for a variety of migrant song
 birds.Fall migration will be past its peak but there will still be muc
 h to see in the way of birds.
LOCATION:FENCE Center
CATEGORIES:Nature Program
CONTACT:Tracie Hanson\, 8288599021\, info@fence.org
CLASS:PUBLIC
END:VEVENT
END:VCALENDAR
