BEGIN:VCALENDAR
PRODID:-//AT Content Types//AT Event//EN
VERSION:1.0
BEGIN:VEVENT
DTSTART:20250110T143000Z
DTEND:20250110T153000Z
DCREATED:20241125T214255Z
UID:ATEvent-108ca6db169148809c5bedcc52fe8312
SEQUENCE:0
LAST-MODIFIED:20241125T214255Z
SUMMARY:FREE Yoga
DESCRIPTION:FENCE is offering free yoga on Fridays at 9:30am in the gr
 eat room. This yoga class is designed for all levels. First time yoga 
 students welcome!
LOCATION:FENCE Center
PRIORITY:3
TRANSP:0
END:VEVENT
END:VCALENDAR
