BEGIN:VCALENDAR
PRODID:-//AT Content Types//AT Event//EN
VERSION:2.0
METHOD:PUBLISH
BEGIN:VEVENT
DTSTAMP:20260423T171118Z
CREATED:20241125T214529Z
UID:ATEvent-289c83160b30461eaf26065df354b946
LAST-MODIFIED:20241125T214529Z
SUMMARY:FREE Yoga
DTSTART:20250117T143000Z
DTEND:20250117T153000Z
DESCRIPTION:FENCE is offering free yoga on Fridays at 9:30am in the gr
 eat room. This yoga class is designed for all levels. First time yoga 
 students welcome!
LOCATION:FENCE Center
CONTACT:Tracie Hanson \, 8288599021\, info@fence.org
CLASS:PUBLIC
END:VEVENT
END:VCALENDAR
