BEGIN:VCALENDAR
PRODID:-//AT Content Types//AT Event//EN
VERSION:2.0
METHOD:PUBLISH
BEGIN:VEVENT
DTSTAMP:20260423T115251Z
CREATED:20230205T163333Z
UID:ATEvent-7d79010106f845b1a98922119d493158
LAST-MODIFIED:20230205T163333Z
SUMMARY:Free yoga
DTSTART:20230324T141500Z
DTEND:20230324T151500Z
DESCRIPTION:FENCE is offering free yoga on Fridays at 10:15am in the g
 reat room. The yoga classes are taught by local instructor Rhonda Gile
 s. This yoga class is designed for all levels\, first time yoga studen
 ts welcome! Attendees should plan to bring a water bottle\, comfortabl
 e\, flexible clothing\, and a yoga mat. Extra yoga mats are available 
 to borrow at FENCE. These classes are made possible by the free commun
 ity event grant at Polk County Community Foundation.
LOCATION:FENCE Center
CATEGORIES:Family
CONTACT:828-859-9021\, info@fence.org
CLASS:PUBLIC
END:VEVENT
END:VCALENDAR
