BEGIN:VCALENDAR
PRODID:-//AT Content Types//AT Event//EN
VERSION:2.0
METHOD:PUBLISH
BEGIN:VEVENT
DTSTAMP:20260423T114825Z
CREATED:20230928T193632Z
UID:ATEvent-a4431e9e2eae40b58ad6dfc7d96b3892
LAST-MODIFIED:20230928T193632Z
SUMMARY:Environmental Camp
DTSTART:20240719T120000Z
DTEND:20240719T210000Z
DESCRIPTION:All Day $225
LOCATION:FENCE Center
CATEGORIES:Childrens Day Camp
CONTACT:8288599021\, info@fence.org
CLASS:PUBLIC
END:VEVENT
END:VCALENDAR
