BEGIN:VCALENDAR
PRODID:-//AT Content Types//AT Event//EN
VERSION:1.0
BEGIN:VEVENT
DTSTART:20240718T120000Z
DTEND:20240718T210000Z
DCREATED:20230928T193555Z
UID:ATEvent-e515fd87ce0f4c4a89d0fcbf95871beb
SEQUENCE:0
LAST-MODIFIED:20230928T193555Z
SUMMARY:Environmental Camp
DESCRIPTION:All Day $225
LOCATION:FENCE Center
PRIORITY:3
TRANSP:0
END:VEVENT
END:VCALENDAR
