BEGIN:VCALENDAR
PRODID:-//AT Content Types//AT Event//EN
VERSION:1.0
BEGIN:VEVENT
DTSTART:20240717T120000Z
DTEND:20240717T210000Z
DCREATED:20230928T193518Z
UID:ATEvent-7e1c8a9fbe9a4dfe84d9699a411fd167
SEQUENCE:0
LAST-MODIFIED:20230928T193518Z
SUMMARY:Environmental Camp
DESCRIPTION:All Day $225
LOCATION:FENCE Center
PRIORITY:3
TRANSP:0
END:VEVENT
END:VCALENDAR
