BEGIN:VCALENDAR
PRODID:-//AT Content Types//AT Event//EN
VERSION:1.0
BEGIN:VEVENT
DTSTART:20240716T120000Z
DTEND:20240716T210000Z
DCREATED:20230928T193416Z
UID:ATEvent-8ddd6a83546948728639b229fa412ca6
SEQUENCE:0
LAST-MODIFIED:20230928T193416Z
SUMMARY:Environmental Camp
DESCRIPTION:All Day $225
LOCATION:FENCE Center
PRIORITY:3
TRANSP:0
END:VEVENT
END:VCALENDAR
