BEGIN:VCALENDAR
PRODID:-//AT Content Types//AT Event//EN
VERSION:2.0
METHOD:PUBLISH
BEGIN:VEVENT
DTSTAMP:20260420T191436Z
CREATED:20210317T125204Z
UID:ATEvent-e55f65725b40455cb22525ca1b4d7cd8
LAST-MODIFIED:20210317T125204Z
SUMMARY:Environmental Camp
DTSTART:20210719T120000Z
DTEND:20210723T210000Z
LOCATION:FENCE Center
CATEGORIES:Childrens Day Camp
CONTACT:TRACIE HANSON\, 8288599021\, natureeducation@fence.org
CLASS:PUBLIC
END:VEVENT
END:VCALENDAR
