BEGIN:VCALENDAR
PRODID:-//AT Content Types//AT Event//EN
VERSION:1.0
BEGIN:VEVENT
DTSTART:20190715T120000Z
DTEND:20190719T210000Z
DCREATED:20181016T202150Z
UID:ATEvent-76567f47483f4ed1bc2a2bc0cf1bcb4c
SEQUENCE:0
LAST-MODIFIED:20181016T202150Z
SUMMARY:Environmental Camp
LOCATION:FENCE Center
PRIORITY:3
TRANSP:0
END:VEVENT
END:VCALENDAR
