BEGIN:VCALENDAR
PRODID:-//AT Content Types//AT Event//EN
VERSION:2.0
METHOD:PUBLISH
BEGIN:VEVENT
DTSTAMP:20260423T170703Z
CREATED:20251217T181120Z
UID:ATEvent-b31eba5f36b44547ae0e9b93da0da40e
LAST-MODIFIED:20251217T181130Z
SUMMARY:Environmental Camp
DTSTART:20260713T130000Z
DTEND:20260717T210000Z
CATEGORIES:Childrens Day Camp
CONTACT:ashley@fence.org
CLASS:PUBLIC
END:VEVENT
END:VCALENDAR
